BEGIN:VCALENDAR
VERSION:2.0
PRODID:-//KG Büdericher Heinzelmännchen 1948 e.V. - ECPv6.15.20//NONSGML v1.0//EN
CALSCALE:GREGORIAN
METHOD:PUBLISH
X-ORIGINAL-URL:https://www.buedericher-heinzelmaennchen.de
X-WR-CALDESC:Veranstaltungen für KG Büdericher Heinzelmännchen 1948 e.V.
REFRESH-INTERVAL;VALUE=DURATION:PT1H
X-Robots-Tag:noindex
X-PUBLISHED-TTL:PT1H
BEGIN:VTIMEZONE
TZID:Europe/Berlin
BEGIN:DAYLIGHT
TZOFFSETFROM:+0100
TZOFFSETTO:+0200
TZNAME:CEST
DTSTART:20260329T010000
END:DAYLIGHT
BEGIN:STANDARD
TZOFFSETFROM:+0200
TZOFFSETTO:+0100
TZNAME:CET
DTSTART:20261025T010000
END:STANDARD
BEGIN:DAYLIGHT
TZOFFSETFROM:+0100
TZOFFSETTO:+0200
TZNAME:CEST
DTSTART:20270328T010000
END:DAYLIGHT
BEGIN:STANDARD
TZOFFSETFROM:+0200
TZOFFSETTO:+0100
TZNAME:CET
DTSTART:20271031T010000
END:STANDARD
BEGIN:DAYLIGHT
TZOFFSETFROM:+0100
TZOFFSETTO:+0200
TZNAME:CEST
DTSTART:20280326T010000
END:DAYLIGHT
BEGIN:STANDARD
TZOFFSETFROM:+0200
TZOFFSETTO:+0100
TZNAME:CET
DTSTART:20281029T010000
END:STANDARD
END:VTIMEZONE
BEGIN:VEVENT
DTSTART;TZID=Europe/Berlin:20270108T190000
DTEND;TZID=Europe/Berlin:20270108T210000
DTSTAMP:20260423T105944
CREATED:20260414T083817Z
LAST-MODIFIED:20260414T083817Z
UID:2772-1799434800-1799442000@www.buedericher-heinzelmaennchen.de
SUMMARY:Monatsversammlung Januar
DESCRIPTION:interne Veranstaltung
URL:https://www.buedericher-heinzelmaennchen.de/event/monatsversammlung-januar
CATEGORIES:Intern
END:VEVENT
BEGIN:VEVENT
DTSTART;TZID=Europe/Berlin:20270110T110000
DTEND;TZID=Europe/Berlin:20270110T143000
DTSTAMP:20260423T105944
CREATED:20260414T084058Z
LAST-MODIFIED:20260414T084058Z
UID:2775-1799578800-1799591400@www.buedericher-heinzelmaennchen.de
SUMMARY:Senatorenfrühschoppen
DESCRIPTION:interne Veranstaltung; Anmeldung beim Vorstand erforderlich
URL:https://www.buedericher-heinzelmaennchen.de/event/senatorenfruehschoppen-2
CATEGORIES:Intern
END:VEVENT
BEGIN:VEVENT
DTSTART;TZID=Europe/Berlin:20270116T190000
DTEND;TZID=Europe/Berlin:20270116T233000
DTSTAMP:20260423T105944
CREATED:20260414T084305Z
LAST-MODIFIED:20260414T084359Z
UID:2777-1800126000-1800142200@www.buedericher-heinzelmaennchen.de
SUMMARY:Große Kostümsitzung
DESCRIPTION:Unter anderem mit Swinging Funfares\, Alt Schuss\, Et Zweijestirn\, Tanzgarde der Katholischen Jugend\, Düsseldorfer Prinzenpaar und den Tanzgarden der Büdericher Heinzelmännchen und viele mehr. \nEintritt: 28 Euro > Hier Karten bestellen
URL:https://www.buedericher-heinzelmaennchen.de/event/grosse-kostuemsitzung-2
LOCATION:Mataré-Gymnasium\, Niederdonker Str. 32\, Meerbusch\, 40667\, Deutschland
END:VEVENT
BEGIN:VEVENT
DTSTART;TZID=Europe/Berlin:20270122T160000
DTEND;TZID=Europe/Berlin:20270122T233000
DTSTAMP:20260423T105944
CREATED:20260414T084458Z
LAST-MODIFIED:20260414T084458Z
UID:2781-1800633600-1800660600@www.buedericher-heinzelmaennchen.de
SUMMARY:Seniorensitzung Osterath
DESCRIPTION:Für die Bewohner des Haus Hildegundis von Meer
URL:https://www.buedericher-heinzelmaennchen.de/event/seniorensitzung-osterath-2
CATEGORIES:Intern
END:VEVENT
BEGIN:VEVENT
DTSTART;TZID=Europe/Berlin:20270130T140000
DTEND;TZID=Europe/Berlin:20270130T200000
DTSTAMP:20260423T105944
CREATED:20260414T084610Z
LAST-MODIFIED:20260414T084623Z
UID:2783-1801317600-1801339200@www.buedericher-heinzelmaennchen.de
SUMMARY:Richtfest
DESCRIPTION:Mit den Tanzgarden der Büdericher Heinzelmännchen\, viel Musik und jeder Menge gute Stimmung! \nEintritt frei!
URL:https://www.buedericher-heinzelmaennchen.de/event/richtfest-2
LOCATION:Mataré-Gymnasium\, Niederdonker Str. 32\, Meerbusch\, 40667\, Deutschland
END:VEVENT
BEGIN:VEVENT
DTSTART;TZID=Europe/Berlin:20270204T111100
DTEND;TZID=Europe/Berlin:20270204T233000
DTSTAMP:20260423T105944
CREATED:20260414T084722Z
LAST-MODIFIED:20260414T084722Z
UID:2785-1801739460-1801783800@www.buedericher-heinzelmaennchen.de
SUMMARY:Altweiber
DESCRIPTION:
URL:https://www.buedericher-heinzelmaennchen.de/event/altweiber
CATEGORIES:Intern
END:VEVENT
BEGIN:VEVENT
DTSTART;TZID=Europe/Berlin:20270207T113000
DTEND;TZID=Europe/Berlin:20270207T123000
DTSTAMP:20260423T105944
CREATED:20260414T084852Z
LAST-MODIFIED:20260414T084852Z
UID:2787-1801999800-1802003400@www.buedericher-heinzelmaennchen.de
SUMMARY:Karnevalistischer Gottesdienst
DESCRIPTION:
URL:https://www.buedericher-heinzelmaennchen.de/event/karnevalistischer-gottesdienst-4
LOCATION:St. Mauritiuskirche\, Dorfstr. 1\, Meerbusch\, 40667
CATEGORIES:Intern
END:VEVENT
BEGIN:VEVENT
DTSTART;TZID=Europe/Berlin:20270208T080000
DTEND;TZID=Europe/Berlin:20270208T170000
DTSTAMP:20260423T105944
CREATED:20260414T085558Z
LAST-MODIFIED:20260414T085558Z
UID:2789-1802073600-1802106000@www.buedericher-heinzelmaennchen.de
SUMMARY:Rosenmontag
DESCRIPTION:Für vereinsinterne Teilnahme Anmeldung beim Vorstand erforderlich
URL:https://www.buedericher-heinzelmaennchen.de/event/rosenmontag-2
CATEGORIES:Intern
END:VEVENT
BEGIN:VEVENT
DTSTART;TZID=Europe/Berlin:20270210T190000
DTEND;TZID=Europe/Berlin:20270210T220000
DTSTAMP:20260423T105944
CREATED:20260414T085709Z
LAST-MODIFIED:20260414T085709Z
UID:2791-1802286000-1802296800@www.buedericher-heinzelmaennchen.de
SUMMARY:Fischessen und Hoppeditzbeerdigung
DESCRIPTION:Wir verabschieden uns von der Session und vom Hoppeditz \nReservierung beim Wirt erbeten!
URL:https://www.buedericher-heinzelmaennchen.de/event/fischessen-und-hoppeditzbeerdigung-2
LOCATION:Gasthaus Krone\, Moerser Str. 12\, Meerbusch\, 40667\, Deutschland
CATEGORIES:Intern
END:VEVENT
END:VCALENDAR