BEGIN:VCALENDAR
VERSION:2.0
PRODID:-//KG Büdericher Heinzelmännchen 1948 e.V. - ECPv6.15.20//NONSGML v1.0//EN
CALSCALE:GREGORIAN
METHOD:PUBLISH
X-ORIGINAL-URL:https://www.buedericher-heinzelmaennchen.de
X-WR-CALDESC:Veranstaltungen für KG Büdericher Heinzelmännchen 1948 e.V.
REFRESH-INTERVAL;VALUE=DURATION:PT1H
X-Robots-Tag:noindex
X-PUBLISHED-TTL:PT1H
BEGIN:VTIMEZONE
TZID:Europe/Berlin
BEGIN:DAYLIGHT
TZOFFSETFROM:+0100
TZOFFSETTO:+0200
TZNAME:CEST
DTSTART:20240331T010000
END:DAYLIGHT
BEGIN:STANDARD
TZOFFSETFROM:+0200
TZOFFSETTO:+0100
TZNAME:CET
DTSTART:20241027T010000
END:STANDARD
BEGIN:DAYLIGHT
TZOFFSETFROM:+0100
TZOFFSETTO:+0200
TZNAME:CEST
DTSTART:20250330T010000
END:DAYLIGHT
BEGIN:STANDARD
TZOFFSETFROM:+0200
TZOFFSETTO:+0100
TZNAME:CET
DTSTART:20251026T010000
END:STANDARD
BEGIN:DAYLIGHT
TZOFFSETFROM:+0100
TZOFFSETTO:+0200
TZNAME:CEST
DTSTART:20260329T010000
END:DAYLIGHT
BEGIN:STANDARD
TZOFFSETFROM:+0200
TZOFFSETTO:+0100
TZNAME:CET
DTSTART:20261025T010000
END:STANDARD
BEGIN:DAYLIGHT
TZOFFSETFROM:+0100
TZOFFSETTO:+0200
TZNAME:CEST
DTSTART:20270328T010000
END:DAYLIGHT
BEGIN:STANDARD
TZOFFSETFROM:+0200
TZOFFSETTO:+0100
TZNAME:CET
DTSTART:20271031T010000
END:STANDARD
END:VTIMEZONE
BEGIN:VEVENT
DTSTART;TZID=Europe/Berlin:20260417T190000
DTEND;TZID=Europe/Berlin:20260417T210000
DTSTAMP:20260423T110045
CREATED:20260414T082439Z
LAST-MODIFIED:20260414T082439Z
UID:2746-1776452400-1776459600@www.buedericher-heinzelmaennchen.de
SUMMARY:Monatsversammlung April
DESCRIPTION:interne Veranstaltung
URL:https://www.buedericher-heinzelmaennchen.de/event/monatsversammlung-april-2
CATEGORIES:Intern
END:VEVENT
BEGIN:VEVENT
DTSTART;TZID=Europe/Berlin:20260215T113000
DTEND;TZID=Europe/Berlin:20260215T123000
DTSTAMP:20260423T110045
CREATED:20260121T135658Z
LAST-MODIFIED:20260126T184244Z
UID:2671-1771155000-1771158600@www.buedericher-heinzelmaennchen.de
SUMMARY:Karnevalistischer Gottesdienst
DESCRIPTION:Karnevalistischer Gottesdienst in Börker Platt unter dem Motto “Frohsinn v’rlängert üer Daach”. \nKostümierung erwünscht!
URL:https://www.buedericher-heinzelmaennchen.de/event/karnevalistischer-gottesdienst-3
LOCATION:St. Mauritiuskirche\, Dorfstr. 1\, Meerbusch\, 40667
END:VEVENT
BEGIN:VEVENT
DTSTART;TZID=Europe/Berlin:20260207T141100
DTEND;TZID=Europe/Berlin:20260207T200000
DTSTAMP:20260423T110045
CREATED:20251107T095257Z
LAST-MODIFIED:20251107T095257Z
UID:2566-1770473460-1770494400@www.buedericher-heinzelmaennchen.de
SUMMARY:Wagenbaurichtfest
DESCRIPTION:Mit den Tanzgarden der Büdericher Heinzelmännchen\, Düsseldorfer Prinzenpaar\, DJ und viele mehr! Eintritt frei! \n 
URL:https://www.buedericher-heinzelmaennchen.de/event/wagenbaurichtfest-2
LOCATION:Mataré-Gymnasium\, Niederdonker Str. 32\, Meerbusch\, 40667\, Deutschland
END:VEVENT
BEGIN:VEVENT
DTSTART;TZID=Europe/Berlin:20260124T190000
DTEND;TZID=Europe/Berlin:20260124T233000
DTSTAMP:20260423T110046
CREATED:20250722T115333Z
LAST-MODIFIED:20250815T151352Z
UID:2516-1769281200-1769297400@www.buedericher-heinzelmaennchen.de
SUMMARY:Große Kostümsitzung
DESCRIPTION:Unter anderem mit Swinging Funfares\, Oli der Köbes\, Rheinstars\, Düsseldorfer Prinzenpaar\, Fidele Sandhasen\, Ne Bonte Pitter\, Rainer Lieverscheidt\, Brass on Spass\, Tanzgarden der Heinzelmännchen und viele mehr. \nPreis pro Karte: 28 Euro \nKarten können hier online bestellt werden: https://www.buedericher-heinzelmaennchen.de/kartenbestellung \n  \n 
URL:https://www.buedericher-heinzelmaennchen.de/event/grosse-kostuemsitzung
LOCATION:Mataré-Gymnasium\, Niederdonker Str. 32\, Meerbusch\, 40667\, Deutschland
END:VEVENT
BEGIN:VEVENT
DTSTART;TZID=Europe/Berlin:20251211T193000
DTEND;TZID=Europe/Berlin:20251211T210000
DTSTAMP:20260423T110046
CREATED:20250314T111021Z
LAST-MODIFIED:20251107T094937Z
UID:2458-1765481400-1765486800@www.buedericher-heinzelmaennchen.de
SUMMARY:Monatsversammlung
DESCRIPTION:interne Veranstaltung
URL:https://www.buedericher-heinzelmaennchen.de/event/monatsversammlung-9
CATEGORIES:Intern
END:VEVENT
BEGIN:VEVENT
DTSTART;TZID=Europe/Berlin:20251129T170000
DTEND;TZID=Europe/Berlin:20251129T220000
DTSTAMP:20260423T110046
CREATED:20250314T110945Z
LAST-MODIFIED:20250314T110945Z
UID:2456-1764435600-1764453600@www.buedericher-heinzelmaennchen.de
SUMMARY:Glühweinabend
DESCRIPTION:interne Veranstaltung; Anmeldung beim Vorstand notwendig
URL:https://www.buedericher-heinzelmaennchen.de/event/gluehweinabend
CATEGORIES:Intern
END:VEVENT
BEGIN:VEVENT
DTSTART;TZID=Europe/Berlin:20251123T110000
DTEND;TZID=Europe/Berlin:20251123T133000
DTSTAMP:20260423T110046
CREATED:20250314T110907Z
LAST-MODIFIED:20250314T110907Z
UID:2454-1763895600-1763904600@www.buedericher-heinzelmaennchen.de
SUMMARY:Friedhofsbegang
DESCRIPTION:interne Veranstaltung
URL:https://www.buedericher-heinzelmaennchen.de/event/friedhofsbegang-3
CATEGORIES:Intern
END:VEVENT
BEGIN:VEVENT
DTSTART;TZID=Europe/Berlin:20251115T090000
DTEND;TZID=Europe/Berlin:20251115T170000
DTSTAMP:20260423T110046
CREATED:20250314T110830Z
LAST-MODIFIED:20250314T110830Z
UID:2452-1763197200-1763226000@www.buedericher-heinzelmaennchen.de
SUMMARY:Kinderhoppeditzerwachen
DESCRIPTION:interne Veranstaltung; Anmeldung beim Vorstand notwendig
URL:https://www.buedericher-heinzelmaennchen.de/event/kinderhoppeditzerwachen
CATEGORIES:Intern
END:VEVENT
BEGIN:VEVENT
DTSTART;TZID=Europe/Berlin:20251111T090000
DTEND;TZID=Europe/Berlin:20251111T230000
DTSTAMP:20260423T110046
CREATED:20250314T110754Z
LAST-MODIFIED:20250314T110754Z
UID:2450-1762851600-1762902000@www.buedericher-heinzelmaennchen.de
SUMMARY:Hoppeditzerwachen
DESCRIPTION:interne Veranstaltung; Anmeldung beim Vorstand notwendig
URL:https://www.buedericher-heinzelmaennchen.de/event/hoppeditzerwachen-3
CATEGORIES:Intern
END:VEVENT
BEGIN:VEVENT
DTSTART;TZID=Europe/Berlin:20251010T193000
DTEND;TZID=Europe/Berlin:20251010T210000
DTSTAMP:20260423T110046
CREATED:20250314T110721Z
LAST-MODIFIED:20250314T110721Z
UID:2448-1760124600-1760130000@www.buedericher-heinzelmaennchen.de
SUMMARY:Monatsversammlung
DESCRIPTION:interne Veranstaltung
URL:https://www.buedericher-heinzelmaennchen.de/event/monatsversammlung-8
CATEGORIES:Intern
END:VEVENT
BEGIN:VEVENT
DTSTART;TZID=Europe/Berlin:20250926T190000
DTEND;TZID=Europe/Berlin:20250926T210000
DTSTAMP:20260423T110046
CREATED:20250314T110636Z
LAST-MODIFIED:20250903T080924Z
UID:2446-1758913200-1758920400@www.buedericher-heinzelmaennchen.de
SUMMARY:Jahreshauptversammlung
DESCRIPTION:interne Veranstaltung
URL:https://www.buedericher-heinzelmaennchen.de/event/jahreshauptversammlung-2
CATEGORIES:Intern
END:VEVENT
BEGIN:VEVENT
DTSTART;TZID=Europe/Berlin:20250823T160000
DTEND;TZID=Europe/Berlin:20250823T230000
DTSTAMP:20260423T110046
CREATED:20250314T110554Z
LAST-MODIFIED:20250314T110554Z
UID:2444-1755964800-1755990000@www.buedericher-heinzelmaennchen.de
SUMMARY:Sommerfest
DESCRIPTION:interne Veranstaltung; Anmeldung beim Vorstand notwendig
URL:https://www.buedericher-heinzelmaennchen.de/event/sommerfest-2
CATEGORIES:Intern
END:VEVENT
BEGIN:VEVENT
DTSTART;TZID=Europe/Berlin:20250712T150000
DTEND;TZID=Europe/Berlin:20250712T230000
DTSTAMP:20260423T110046
CREATED:20250314T110520Z
LAST-MODIFIED:20250314T110520Z
UID:2442-1752332400-1752361200@www.buedericher-heinzelmaennchen.de
SUMMARY:Kirmesrundgang Düsseldorf
DESCRIPTION:interne Veranstaltung; Anmeldung beim Vorstand notwendig
URL:https://www.buedericher-heinzelmaennchen.de/event/kirmesrundgang-duesseldorf
CATEGORIES:Intern
END:VEVENT
BEGIN:VEVENT
DTSTART;VALUE=DATE:20250614
DTEND;VALUE=DATE:20250615
DTSTAMP:20260423T110046
CREATED:20250423T075154Z
LAST-MODIFIED:20250423T075154Z
UID:2476-1749859200-1749945599@www.buedericher-heinzelmaennchen.de
SUMMARY:Fahrradtour
DESCRIPTION:interne Veranstaltung; Anmeldung beim Vorstand notwendig
URL:https://www.buedericher-heinzelmaennchen.de/event/fahrradtour
CATEGORIES:Intern
END:VEVENT
BEGIN:VEVENT
DTSTART;TZID=Europe/Berlin:20250613T193000
DTEND;TZID=Europe/Berlin:20250613T210000
DTSTAMP:20260423T110046
CREATED:20250314T110414Z
LAST-MODIFIED:20250314T110414Z
UID:2440-1749843000-1749848400@www.buedericher-heinzelmaennchen.de
SUMMARY:Monatsversammlung
DESCRIPTION:interne Veranstaltung
URL:https://www.buedericher-heinzelmaennchen.de/event/monatsversammlung-7
CATEGORIES:Intern
END:VEVENT
BEGIN:VEVENT
DTSTART;TZID=Europe/Berlin:20250608T160000
DTEND;TZID=Europe/Berlin:20250608T230000
DTSTAMP:20260423T110046
CREATED:20250314T110324Z
LAST-MODIFIED:20250314T110324Z
UID:2438-1749398400-1749423600@www.buedericher-heinzelmaennchen.de
SUMMARY:Kirmesbesuch Büderich
DESCRIPTION:interne Veranstaltung
URL:https://www.buedericher-heinzelmaennchen.de/event/kirmesbesuch-buederich
CATEGORIES:Intern
END:VEVENT
BEGIN:VEVENT
DTSTART;TZID=Europe/Berlin:20250529T100000
DTEND;TZID=Europe/Berlin:20250529T170000
DTSTAMP:20260423T110046
CREATED:20250314T110234Z
LAST-MODIFIED:20250314T110234Z
UID:2436-1748512800-1748538000@www.buedericher-heinzelmaennchen.de
SUMMARY:Vogelschießen
DESCRIPTION:interne Veranstaltung
URL:https://www.buedericher-heinzelmaennchen.de/event/vogelschiessen-2
CATEGORIES:Intern
END:VEVENT
BEGIN:VEVENT
DTSTART;TZID=Europe/Berlin:20250509T193000
DTEND;TZID=Europe/Berlin:20250509T210000
DTSTAMP:20260423T110046
CREATED:20250423T075058Z
LAST-MODIFIED:20250423T075058Z
UID:2474-1746819000-1746824400@www.buedericher-heinzelmaennchen.de
SUMMARY:Monatsversammlung
DESCRIPTION:interne Veranstaltung
URL:https://www.buedericher-heinzelmaennchen.de/event/monatsversammlung-10
CATEGORIES:Intern
END:VEVENT
BEGIN:VEVENT
DTSTART;TZID=Europe/Berlin:20250411T193000
DTEND;TZID=Europe/Berlin:20250411T210000
DTSTAMP:20260423T110046
CREATED:20250314T110038Z
LAST-MODIFIED:20250314T110124Z
UID:2434-1744399800-1744405200@www.buedericher-heinzelmaennchen.de
SUMMARY:Monatsversammlung
DESCRIPTION:interne Veranstaltung
URL:https://www.buedericher-heinzelmaennchen.de/event/monatsversammlung-6
CATEGORIES:Intern
END:VEVENT
BEGIN:VEVENT
DTSTART;TZID=Europe/Berlin:20250314T193000
DTEND;TZID=Europe/Berlin:20250314T210000
DTSTAMP:20260423T110046
CREATED:20250118T064108Z
LAST-MODIFIED:20250118T064108Z
UID:2371-1741980600-1741986000@www.buedericher-heinzelmaennchen.de
SUMMARY:Monatsversammlung
DESCRIPTION:interne Veranstaltung
URL:https://www.buedericher-heinzelmaennchen.de/event/monatsversammlung-5
CATEGORIES:Intern
END:VEVENT
BEGIN:VEVENT
DTSTART;TZID=Europe/Berlin:20250305T190000
DTEND;TZID=Europe/Berlin:20250305T220000
DTSTAMP:20260423T110046
CREATED:20250120T125224Z
LAST-MODIFIED:20250219T155333Z
UID:2380-1741201200-1741212000@www.buedericher-heinzelmaennchen.de
SUMMARY:Fischessen und Hoppeditzbeerdigung
DESCRIPTION:Wir nehmen Abschied von der Session\, traditionell mit Fischessen und Hoppeditzbeerdigung. Um Anmeldung beim Wirt wird gebeten!
URL:https://www.buedericher-heinzelmaennchen.de/event/fischessen-und-hoppeditzbeerdigung
LOCATION:Gasthaus Krone\, Moerser Str. 12\, Meerbusch\, 40667\, Deutschland
END:VEVENT
BEGIN:VEVENT
DTSTART;TZID=Europe/Berlin:20250303T170000
DTEND;TZID=Europe/Berlin:20250303T235900
DTSTAMP:20260423T110046
CREATED:20250120T124921Z
LAST-MODIFIED:20250219T155353Z
UID:2376-1741021200-1741046340@www.buedericher-heinzelmaennchen.de
SUMMARY:After-Zoch-Party
DESCRIPTION:Die Party nach dem Rosenmontagszug in Büderich! Mit DJ Bode; Eintritt frei!
URL:https://www.buedericher-heinzelmaennchen.de/event/after-zoch-party
LOCATION:Gasthaus Krone\, Moerser Str. 12\, Meerbusch\, 40667\, Deutschland
END:VEVENT
BEGIN:VEVENT
DTSTART;TZID=Europe/Berlin:20250302T113000
DTEND;TZID=Europe/Berlin:20250302T123000
DTSTAMP:20260423T110046
CREATED:20250120T123310Z
LAST-MODIFIED:20250219T155430Z
UID:2374-1740915000-1740918600@www.buedericher-heinzelmaennchen.de
SUMMARY:Karnevalistischer Gottesdienst
DESCRIPTION:Karnevalistischer Gottesdienst in Börker Platt. Unter der Leitung von Pastor Michael Berning. Vorbereitet durch die Mundart-Experten Hans Spennes und Friedhelm Rippers\, unterstützt durch die Karnevalsgesellschaften KG Büdericher Heinzelmännchen und KG Blau-Weiß Büderich.
URL:https://www.buedericher-heinzelmaennchen.de/event/karnevalistischer-gottesdienst-2
LOCATION:St. Mauritiuskirche\, Dorfstr. 1\, Meerbusch\, 40667
END:VEVENT
BEGIN:VEVENT
DTSTART;TZID=Europe/Berlin:20250227T151100
DTEND;TZID=Europe/Berlin:20250227T235900
DTSTAMP:20260423T110046
CREATED:20240829T150711Z
LAST-MODIFIED:20250120T125051Z
UID:2214-1740669060-1740700740@www.buedericher-heinzelmaennchen.de
SUMMARY:Altweiber-Party
DESCRIPTION:Unter anderem mit den Tanzgarden der Büdericher Heinzelmännchen\, Sellerie-Prinz der Närrischen Marktfrauen\, Prinzengarde Blau-Weiß und DJ \nEintritt frei!
URL:https://www.buedericher-heinzelmaennchen.de/event/altweiber-party
LOCATION:Gasthaus Krone\, Moerser Str. 12\, Meerbusch\, 40667\, Deutschland
END:VEVENT
BEGIN:VEVENT
DTSTART;TZID=Europe/Berlin:20250222T141100
DTEND;TZID=Europe/Berlin:20250222T200000
DTSTAMP:20260423T110046
CREATED:20240630T172944Z
LAST-MODIFIED:20250114T110525Z
UID:2003-1740233460-1740254400@www.buedericher-heinzelmaennchen.de
SUMMARY:Wagenbaurichtfest
DESCRIPTION:Mit dabei ist das Prinzenpaar der Landeshauptstadt Düsseldorf\, die Tanzgarden der Büdericher Heinzelmännchen\, Düsseldorfer Originale\, Prinzengarde Blau-Weiß\, Düsseldorfer Bürgerwehr\, uvm. \nEintritt frei!
URL:https://www.buedericher-heinzelmaennchen.de/event/wagenbaurichtfest
LOCATION:Altes Kesselhaus Areal Böhler\, Böhlerstr. 1\, Meerbusch\, 40667\, Deutschland
END:VEVENT
BEGIN:VEVENT
DTSTART;TZID=Europe/Berlin:20250214T193000
DTEND;TZID=Europe/Berlin:20250214T210000
DTSTAMP:20260423T110046
CREATED:20250118T063942Z
LAST-MODIFIED:20250118T063942Z
UID:2369-1739561400-1739566800@www.buedericher-heinzelmaennchen.de
SUMMARY:Monatsversammlung
DESCRIPTION:interne Veranstaltung
URL:https://www.buedericher-heinzelmaennchen.de/event/monatsversammlung-4
CATEGORIES:Intern
END:VEVENT
BEGIN:VEVENT
DTSTART;TZID=Europe/Berlin:20250214T160000
DTEND;TZID=Europe/Berlin:20250214T173000
DTSTAMP:20260423T110046
CREATED:20240829T150559Z
LAST-MODIFIED:20240829T150559Z
UID:2212-1739548800-1739554200@www.buedericher-heinzelmaennchen.de
SUMMARY:Seniorensitzung Haus Hildegundis
DESCRIPTION:Wir feiern Karneval mit den Bewohnerinnen und Bewohnern des Caritas Haus Hildegundis in Meerbusch-Osterath
URL:https://www.buedericher-heinzelmaennchen.de/event/seniorensitzung-haus-hildegundis
END:VEVENT
BEGIN:VEVENT
DTSTART;TZID=Europe/Berlin:20250208T190000
DTEND;TZID=Europe/Berlin:20250209T010000
DTSTAMP:20260423T110046
CREATED:20240630T172719Z
LAST-MODIFIED:20241201T185427Z
UID:2000-1739041200-1739062800@www.buedericher-heinzelmaennchen.de
SUMMARY:Jubiläumssitzung
DESCRIPTION:In der Aula des Städtischen Mataré-Gymnasiums \nMit Rhythmussportgruppe\, Wimmer Band\, Feuerwehrmann Kresse\, Waltraud Ehlert\, Alt Schuss\, Rheinstars\, KG Regenbogen und viele mehr. \nAUSVERKAUFT! Es sind leider keine Karten mehr für unsere Jubiläumssitzung verfügbar!
URL:https://www.buedericher-heinzelmaennchen.de/event/jubilaeumssitzung
LOCATION:Mataré-Gymnasium\, Niederdonker Str. 32\, Meerbusch\, 40667\, Deutschland
END:VEVENT
BEGIN:VEVENT
DTSTART;TZID=Europe/Berlin:20250205T160000
DTEND;TZID=Europe/Berlin:20250304T190000
DTSTAMP:20260423T110046
CREATED:20240829T150336Z
LAST-MODIFIED:20250212T105015Z
UID:2207-1738771200-1741114800@www.buedericher-heinzelmaennchen.de
SUMMARY:Jubiläumsausstellung
DESCRIPTION:Zu unserem 7x11jährigen Jubiläum laden wir zur Ausstellung unserer Vereinsgeschichte in die Stadtbibliothek Meerbusch am Dr.-Franz-Schütz-Platz in Büderich.\nDie Ausstellung wird in Kooperation mit dem Stadtarchiv Meerbusch durchgeführt. \nDie Ausstellung ist während der Öffnungszeiten der Stadtbibliothek zu sehen. 
URL:https://www.buedericher-heinzelmaennchen.de/event/jubilaeumsausstellung
LOCATION:Stadtbiliothek Meerbusch\, Dr.-Franz-Schütz-Platz\, Meerbusch\, 40667
END:VEVENT
BEGIN:VEVENT
DTSTART;TZID=Europe/Berlin:20250131T160000
DTEND;TZID=Europe/Berlin:20250131T173000
DTSTAMP:20260423T110046
CREATED:20240829T150031Z
LAST-MODIFIED:20240829T150031Z
UID:2205-1738339200-1738344600@www.buedericher-heinzelmaennchen.de
SUMMARY:Seniorensitzung Johanniterstift
DESCRIPTION:Wir feiern Karneval mit den Bewohnerinnen und Bewohnern des Johanniter-Stifts in Meerbusch-Büderich
URL:https://www.buedericher-heinzelmaennchen.de/event/seniorensitzung-johanniterstift
END:VEVENT
END:VCALENDAR